BEGIN:VCALENDAR
VERSION:2.0
PRODID:-//LetsPlayBocce.com - ECPv6.15.20//NONSGML v1.0//EN
CALSCALE:GREGORIAN
METHOD:PUBLISH
X-ORIGINAL-URL:https://letsplaybocce.com
X-WR-CALDESC:Events for LetsPlayBocce.com
REFRESH-INTERVAL;VALUE=DURATION:PT1H
X-Robots-Tag:noindex
X-PUBLISHED-TTL:PT1H
BEGIN:VTIMEZONE
TZID:America/Chicago
BEGIN:DAYLIGHT
TZOFFSETFROM:-0600
TZOFFSETTO:-0500
TZNAME:CDT
DTSTART:20230312T080000
END:DAYLIGHT
BEGIN:STANDARD
TZOFFSETFROM:-0500
TZOFFSETTO:-0600
TZNAME:CST
DTSTART:20231105T070000
END:STANDARD
BEGIN:DAYLIGHT
TZOFFSETFROM:-0600
TZOFFSETTO:-0500
TZNAME:CDT
DTSTART:20240310T080000
END:DAYLIGHT
BEGIN:STANDARD
TZOFFSETFROM:-0500
TZOFFSETTO:-0600
TZNAME:CST
DTSTART:20241103T070000
END:STANDARD
BEGIN:DAYLIGHT
TZOFFSETFROM:-0600
TZOFFSETTO:-0500
TZNAME:CDT
DTSTART:20250309T080000
END:DAYLIGHT
BEGIN:STANDARD
TZOFFSETFROM:-0500
TZOFFSETTO:-0600
TZNAME:CST
DTSTART:20251102T070000
END:STANDARD
BEGIN:DAYLIGHT
TZOFFSETFROM:-0600
TZOFFSETTO:-0500
TZNAME:CDT
DTSTART:20260308T080000
END:DAYLIGHT
BEGIN:STANDARD
TZOFFSETFROM:-0500
TZOFFSETTO:-0600
TZNAME:CST
DTSTART:20261101T070000
END:STANDARD
END:VTIMEZONE
BEGIN:VTIMEZONE
TZID:UTC
BEGIN:STANDARD
TZOFFSETFROM:+0000
TZOFFSETTO:+0000
TZNAME:UTC
DTSTART:20220101T000000
END:STANDARD
END:VTIMEZONE
BEGIN:VEVENT
DTSTART;VALUE=DATE:20250904
DTEND;VALUE=DATE:20250907
DTSTAMP:20260424T080721
CREATED:20250226T234317Z
LAST-MODIFIED:20250715T211228Z
UID:10000032-1756944000-1757203199@letsplaybocce.com
SUMMARY:ABC Open 25
DESCRIPTION:Gold and Silver divisions.\n$25\,000 in cash prizes for top 8 teams.
URL:https://letsplaybocce.com/calendar/abc-open-25/
LOCATION:Palazzo di Bocce\, 4291 S Lapeer Rd\, Lake Orion\, United States
CATEGORIES:Open-Rules Tournaments
END:VEVENT
BEGIN:VEVENT
DTSTART;VALUE=DATE:20240912
DTEND;VALUE=DATE:20240915
DTSTAMP:20260424T080721
CREATED:20240709T202524Z
LAST-MODIFIED:20240709T231841Z
UID:10000023-1726099200-1726358399@letsplaybocce.com
SUMMARY:2024 ABC Open
DESCRIPTION:4th Annual ABC Open.\nGold and Silver divisions.
URL:https://letsplaybocce.com/calendar/2024-abc-open/
LOCATION:Palazzo di Bocce\, 4291 S Lapeer Rd\, Lake Orion\, United States
ATTACH;FMTTYPE=image/png:https://letsplaybocce.com/wp-content/uploads/2024/07/Screenshot2024-05-20at3.46.58PM.png
END:VEVENT
BEGIN:VEVENT
DTSTART;VALUE=DATE:20240516
DTEND;VALUE=DATE:20240519
DTSTAMP:20260424T080721
CREATED:20240112T035009Z
LAST-MODIFIED:20240505T165309Z
UID:10000017-1715817600-1716076799@letsplaybocce.com
SUMMARY:2024 ABC Premier
DESCRIPTION:2 v 2
URL:https://letsplaybocce.com/calendar/2024-abc-premier/
LOCATION:Palazzo di Bocce\, 4291 S Lapeer Rd\, Lake Orion\, United States
END:VEVENT
BEGIN:VEVENT
DTSTART;VALUE=DATE:20240315
DTEND;VALUE=DATE:20240317
DTSTAMP:20260424T080721
CREATED:20240112T034023Z
LAST-MODIFIED:20240112T034023Z
UID:10000016-1710460800-1710633599@letsplaybocce.com
SUMMARY:2024 ABC Nola Open
DESCRIPTION:
URL:https://letsplaybocce.com/calendar/2024-abc-nola-open/
LOCATION:Italian American Club of Greater New Orleans\, Metairie\, LA
END:VEVENT
BEGIN:VEVENT
DTSTART;VALUE=DATE:20240121
DTEND;VALUE=DATE:20240122
DTSTAMP:20260424T080721
CREATED:20240112T035448Z
LAST-MODIFIED:20240112T035448Z
UID:10000018-1705795200-1705881599@letsplaybocce.com
SUMMARY:ABC's EP3's
DESCRIPTION:3 v 3
URL:https://letsplaybocce.com/calendar/abcs-ep3s/
LOCATION:Elmwood Park\, Illinois\, Corner of Fullerton & 75th Ave\, Elmwood Park\, Illinois
END:VEVENT
BEGIN:VEVENT
DTSTART;VALUE=DATE:20230907
DTEND;VALUE=DATE:20230910
DTSTAMP:20260424T080721
CREATED:20230807T090741Z
LAST-MODIFIED:20230808T021218Z
UID:10000003-1694044800-1694303999@letsplaybocce.com
SUMMARY:ABC Open
DESCRIPTION:
URL:https://letsplaybocce.com/calendar/abc-open/
END:VEVENT
END:VCALENDAR