BEGIN:VCALENDAR
VERSION:2.0
PRODID:-//LetsPlayBocce.com - ECPv6.15.20//NONSGML v1.0//EN
CALSCALE:GREGORIAN
METHOD:PUBLISH
X-ORIGINAL-URL:https://letsplaybocce.com
X-WR-CALDESC:Events for LetsPlayBocce.com
REFRESH-INTERVAL;VALUE=DURATION:PT1H
X-Robots-Tag:noindex
X-PUBLISHED-TTL:PT1H
BEGIN:VTIMEZONE
TZID:America/Chicago
BEGIN:DAYLIGHT
TZOFFSETFROM:-0600
TZOFFSETTO:-0500
TZNAME:CDT
DTSTART:20220313T080000
END:DAYLIGHT
BEGIN:STANDARD
TZOFFSETFROM:-0500
TZOFFSETTO:-0600
TZNAME:CST
DTSTART:20221106T070000
END:STANDARD
BEGIN:DAYLIGHT
TZOFFSETFROM:-0600
TZOFFSETTO:-0500
TZNAME:CDT
DTSTART:20230312T080000
END:DAYLIGHT
BEGIN:STANDARD
TZOFFSETFROM:-0500
TZOFFSETTO:-0600
TZNAME:CST
DTSTART:20231105T070000
END:STANDARD
BEGIN:DAYLIGHT
TZOFFSETFROM:-0600
TZOFFSETTO:-0500
TZNAME:CDT
DTSTART:20240310T080000
END:DAYLIGHT
BEGIN:STANDARD
TZOFFSETFROM:-0500
TZOFFSETTO:-0600
TZNAME:CST
DTSTART:20241103T070000
END:STANDARD
BEGIN:DAYLIGHT
TZOFFSETFROM:-0600
TZOFFSETTO:-0500
TZNAME:CDT
DTSTART:20250309T080000
END:DAYLIGHT
BEGIN:STANDARD
TZOFFSETFROM:-0500
TZOFFSETTO:-0600
TZNAME:CST
DTSTART:20251102T070000
END:STANDARD
BEGIN:DAYLIGHT
TZOFFSETFROM:-0600
TZOFFSETTO:-0500
TZNAME:CDT
DTSTART:20260308T080000
END:DAYLIGHT
BEGIN:STANDARD
TZOFFSETFROM:-0500
TZOFFSETTO:-0600
TZNAME:CST
DTSTART:20261101T070000
END:STANDARD
END:VTIMEZONE
BEGIN:VTIMEZONE
TZID:UTC
BEGIN:STANDARD
TZOFFSETFROM:+0000
TZOFFSETTO:+0000
TZNAME:UTC
DTSTART:20220101T000000
END:STANDARD
END:VTIMEZONE
BEGIN:VEVENT
DTSTART;VALUE=DATE:20250927
DTEND;VALUE=DATE:20250929
DTSTAMP:20260423T143838
CREATED:20240223T020416Z
LAST-MODIFIED:20250915T015449Z
UID:10000019-1758931200-1759103999@letsplaybocce.com
SUMMARY:Mario Massa Memorial Bocce Tournament
DESCRIPTION:
URL:https://letsplaybocce.com/calendar/mario-massa-memorial-bocce-tournament/
LOCATION:Highwood Bocce Club\, 440 Bank Lane\, Highwood\, IL\, United States
CATEGORIES:Open-Rules Tournaments
ATTACH;FMTTYPE=image/jpeg:https://letsplaybocce.com/wp-content/uploads/2024/07/273493229_1978474569021056_3091827141759693031_n.jpg
END:VEVENT
BEGIN:VEVENT
DTSTART;VALUE=DATE:20250329
DTEND;VALUE=DATE:20250330
DTSTAMP:20260423T143838
CREATED:20250315T014215Z
LAST-MODIFIED:20250317T224733Z
UID:10000036-1743206400-1743292799@letsplaybocce.com
SUMMARY:Danko's 2-Person PRV Tournament
DESCRIPTION:
URL:https://letsplaybocce.com/calendar/dankos-2-person-prv-tournament/
LOCATION:Highwood Bocce Club\, 440 Bank Lane\, Highwood\, IL\, United States
CATEGORIES:Punto Raffa Volo Tournaments
ATTACH;FMTTYPE=image/png:https://letsplaybocce.com/wp-content/uploads/2025/03/520dedcc-d873-4c0b-8c45-b70baa0c0ed2.png
END:VEVENT
BEGIN:VEVENT
DTSTART;VALUE=DATE:20241123
DTEND;VALUE=DATE:20241124
DTSTAMP:20260423T143838
CREATED:20240924T214324Z
LAST-MODIFIED:20240924T214324Z
UID:10000026-1732320000-1732406399@letsplaybocce.com
SUMMARY:3 Man Tournament
DESCRIPTION:
URL:https://letsplaybocce.com/calendar/3-man-tournament/
LOCATION:Highwood Bocce Club\, 440 Bank Lane\, Highwood\, IL\, United States
CATEGORIES:Open-Rules Tournaments
ATTACH;FMTTYPE=image/jpeg:https://letsplaybocce.com/wp-content/uploads/2024/09/461176126_1048823253920384_32925627529313904_n1.jpg
END:VEVENT
BEGIN:VEVENT
DTSTART;VALUE=DATE:20231209
DTEND;VALUE=DATE:20231210
DTSTAMP:20260423T143838
CREATED:20231206T230328Z
LAST-MODIFIED:20231206T230328Z
UID:10000011-1702080000-1702166399@letsplaybocce.com
SUMMARY:Highwood Jingle All the Way Tourney
DESCRIPTION:
URL:https://letsplaybocce.com/calendar/highwood-jingle-all-the-way-tourney/
LOCATION:Highwood Bocce Club\, 440 Bank Lane\, Highwood\, IL\, United States
END:VEVENT
BEGIN:VEVENT
DTSTART;VALUE=DATE:20230618
DTEND;VALUE=DATE:20230625
DTSTAMP:20260423T143838
CREATED:20230807T075202Z
LAST-MODIFIED:20250315T015110Z
UID:10000001-1687046400-1687651199@letsplaybocce.com
SUMMARY:USBF Bocce Nationals 2023
DESCRIPTION:hosted by Highwood Bocce Club
URL:https://letsplaybocce.com/calendar/usbf-bocce-nationals-2023/
LOCATION:Highwood Bocce Club\, 440 Bank Lane\, Highwood\, IL\, United States
CATEGORIES:Open-Rules Tournaments,Punto Raffa Volo Tournaments
END:VEVENT
END:VCALENDAR